BEGIN:VCALENDAR
VERSION:2.0
PRODID:-//Los tres misisipis - ECPv6.3.1//NONSGML v1.0//EN
CALSCALE:GREGORIAN
METHOD:PUBLISH
X-WR-CALNAME:Los tres misisipis
X-ORIGINAL-URL:https://lostresmisisipis.com
X-WR-CALDESC:Eventos para Los tres misisipis
REFRESH-INTERVAL;VALUE=DURATION:PT1H
X-Robots-Tag:noindex
X-PUBLISHED-TTL:PT1H
BEGIN:VTIMEZONE
TZID:America/Mexico_City
BEGIN:STANDARD
TZOFFSETFROM:-0600
TZOFFSETTO:-0600
TZNAME:CST
DTSTART:20230101T000000
END:STANDARD
END:VTIMEZONE
BEGIN:VEVENT
DTSTART;TZID=America/Mexico_City:20231014T190000
DTEND;TZID=America/Mexico_City:20231015T010000
DTSTAMP:20260422T080209
CREATED:20230913T203935Z
LAST-MODIFIED:20231007T183616Z
UID:8163-1697310000-1697331600@lostresmisisipis.com
SUMMARY:T12 | E1 | Los tres misisipis en vivo
DESCRIPTION:Los tres misisipis en vivo \nAcompáñanos a la grabación de nuestro episodio en vivo en Ciudad de México. Convive con nosotros (no tanto) y hazte amigo de los misisapiens (gente ley). Limitado a 300 lugares; el que alcanzó\, alcanzó\, nada de andarle escribiendo a Tiempo por un boleto suelto que le quede.
URL:https://lostresmisisipis.com/el-evento/t12-e1-los-tres-misisipis-en-vivo/
LOCATION:Foro Anzures\, Lafayette 147\, Miguel Hidalgo\, CDMX\, 11590\, Mexico
ATTACH;FMTTYPE=image/png:https://lostresmisisipis.com/wp-content/uploads/2023/09/1-1.png
ORGANIZER;CN="Los Tres Misisipis":MAILTO:tresmisisipis@gmail.com
END:VEVENT
END:VCALENDAR