BEGIN:VCALENDAR
VERSION:2.0
PRODID:-//Los tres misisipis - ECPv6.3.1//NONSGML v1.0//EN
CALSCALE:GREGORIAN
METHOD:PUBLISH
X-ORIGINAL-URL:https://lostresmisisipis.com
X-WR-CALDESC:Eventos para Los tres misisipis
REFRESH-INTERVAL;VALUE=DURATION:PT1H
X-Robots-Tag:noindex
X-PUBLISHED-TTL:PT1H
BEGIN:VTIMEZONE
TZID:America/Mexico_City
BEGIN:STANDARD
TZOFFSETFROM:-0600
TZOFFSETTO:-0600
TZNAME:CST
DTSTART:20240101T000000
END:STANDARD
END:VTIMEZONE
BEGIN:VEVENT
DTSTART;TZID=America/Mexico_City:20240623T200000
DTEND;TZID=America/Mexico_City:20240624T010000
DTSTAMP:20260419T173716
CREATED:20230921T224006Z
LAST-MODIFIED:20240607T172848Z
UID:10414-1719172800-1719190800@lostresmisisipis.com
SUMMARY:Para predecir la lluvia MTY
DESCRIPTION:Presentación en vivo de “Para predecir la lluvia” \nInvitados Especiales: Sultán y Tiempo Detenido
URL:https://lostresmisisipis.com/el-evento/para-predecir-la-lluvia-mty/
LOCATION:Uptown Live Music Bar\, Avenida la Rioja 245\, Monterrey\, Nuevo León\, 64985\, Mexico
ATTACH;FMTTYPE=image/png:https://lostresmisisipis.com/wp-content/uploads/2023/09/Horizontal.png
ORGANIZER;CN="Los Tres Misisipis":MAILTO:tresmisisipis@gmail.com
END:VEVENT
END:VCALENDAR