BEGIN:VCALENDAR
VERSION:2.0
PRODID:-//Los tres misisipis - ECPv6.3.1//NONSGML v1.0//EN
CALSCALE:GREGORIAN
METHOD:PUBLISH
X-ORIGINAL-URL:https://lostresmisisipis.com
X-WR-CALDESC:Eventos para Los tres misisipis
REFRESH-INTERVAL;VALUE=DURATION:PT1H
X-Robots-Tag:noindex
X-PUBLISHED-TTL:PT1H
BEGIN:VTIMEZONE
TZID:America/Mexico_City
BEGIN:STANDARD
TZOFFSETFROM:-0600
TZOFFSETTO:-0600
TZNAME:CST
DTSTART:20240101T000000
END:STANDARD
END:VTIMEZONE
BEGIN:VEVENT
DTSTART;TZID=America/Mexico_City:20240630T200000
DTEND;TZID=America/Mexico_City:20240701T010000
DTSTAMP:20260419T155506
CREATED:20230921T224006Z
LAST-MODIFIED:20240607T172815Z
UID:10403-1719777600-1719795600@lostresmisisipis.com
SUMMARY:Para predecir la lluvia GDL
DESCRIPTION:Presentación en vivo de “Para predecir la lluvia” \nInvitados Especiales: Sultán y Tiempo Detenido
URL:https://lostresmisisipis.com/el-evento/para-predecir-la-lluvia-gdl/
LOCATION:The Basement Music Club\, Avenida México 3065\, Vallarta Norte\, Guadalajara\, Jalisco\, 44690\, Mexico
ATTACH;FMTTYPE=image/jpeg:https://lostresmisisipis.com/wp-content/uploads/2023/09/WhatsApp-Image-2024-06-05-at-12.41.02.jpeg
ORGANIZER;CN="Los Tres Misisipis":MAILTO:tresmisisipis@gmail.com
END:VEVENT
END:VCALENDAR